BEGIN:VCALENDAR
VERSION:2.0
PRODID:-//bonasoft.pl//NONSGML Sieć współpracy i samokształcenia//EN
CALSCALE:GREGORIAN
METHOD:PUBLISH
BEGIN:VEVENT
UID:20260421T224717-761292503uid
DISTAMP:20260421T224717
DTSTART:20240227T120000Z
DTEND:20240227T140000Z
LOCATION:Biblioteka Pedagogiczna w Radomiu
SUMMARY:Sieć współpracy i samokształcenia
DESCRIPTION:"Escape room w edukacji"
END:VEVENT
END:VCALENDAR
